BEGIN:VCALENDAR
VERSION:2.0
PRODID:-//Amfitheater het Lommerrijk - ECPv6.15.20//NONSGML v1.0//EN
CALSCALE:GREGORIAN
METHOD:PUBLISH
X-ORIGINAL-URL:https://amfitheaterhetlommerrijk.nl
X-WR-CALDESC:Evenementen voor Amfitheater het Lommerrijk
REFRESH-INTERVAL;VALUE=DURATION:PT1H
X-Robots-Tag:noindex
X-PUBLISHED-TTL:PT1H
BEGIN:VTIMEZONE
TZID:Europe/Paris
BEGIN:DAYLIGHT
TZOFFSETFROM:+0100
TZOFFSETTO:+0200
TZNAME:CEST
DTSTART:20250330T010000
END:DAYLIGHT
BEGIN:STANDARD
TZOFFSETFROM:+0200
TZOFFSETTO:+0100
TZNAME:CET
DTSTART:20251026T010000
END:STANDARD
BEGIN:DAYLIGHT
TZOFFSETFROM:+0100
TZOFFSETTO:+0200
TZNAME:CEST
DTSTART:20260329T010000
END:DAYLIGHT
BEGIN:STANDARD
TZOFFSETFROM:+0200
TZOFFSETTO:+0100
TZNAME:CET
DTSTART:20261025T010000
END:STANDARD
BEGIN:DAYLIGHT
TZOFFSETFROM:+0100
TZOFFSETTO:+0200
TZNAME:CEST
DTSTART:20270328T010000
END:DAYLIGHT
BEGIN:STANDARD
TZOFFSETFROM:+0200
TZOFFSETTO:+0100
TZNAME:CET
DTSTART:20271031T010000
END:STANDARD
END:VTIMEZONE
BEGIN:VEVENT
DTSTART;TZID=Europe/Paris:20260504T203000
DTEND;TZID=Europe/Paris:20260504T221000
DTSTAMP:20260420T080258
CREATED:20260205T175602Z
LAST-MODIFIED:20260205T183529Z
UID:3251-1777926600-1777932600@amfitheaterhetlommerrijk.nl
SUMMARY:Film - Het Verloren Transport
DESCRIPTION:Op maandag 27 april vieren we Koningsdag in ‘oons’ mooie Lommerrijk. Tijdens deze feestelijke ochtend is er een gezellige kleedjesmarkt waar iedereen zijn spullen kan verkopen. Wil je meedoen? Meld je dan hieronder aan door het formulier in te vullen. Om 09:30 uur starten we officieel met het hijsen van de vlaggen. Dit wordt gedaan door de inwoners die dit jaar een lintje hebben ontvangen. Daarna zorgen Accordeola en De Bergklanken voor feestelijke muziek\, zodat we samen in een gezellige sfeer Koningsdag kunnen vieren. We maken er met elkaar een mooie ochtend van. Het programma duurt tot ongeveer 13:00 uur. 								\n				\n				\n				\n							\n			\n		\n						\n				\n					\n		\n					\n		\n				\n						\n					\n			\n						\n				\n					Aanmelden kleedjesmarkt				\n				\n				\n				\n							\n\n\n\nAanmelden kleedjesmarkt\n\n\n\n\n\n\n\n\n	Naam\n		*\n	\n	\n	\n		Naam	\n\n	\n					\n				\n					Voornaam				\n\n				Voornaam			\n						\n				\n					Achternaam				\n\n				Achternaam			\n				\n\n\n	\n	\n\n\n	E-mail\n		*\n	\n	\n	\n	\n\n\n	\nVerzenden\n\n\n\n\n\n	\n			\n			\n				Indien je een mens bent\, laat dit veld leeg:.			\n			\n		\n		\n\n\n\nΔ
URL:https://amfitheaterhetlommerrijk.nl/evenementen/film-het-verloren-transport/
LOCATION:Amfitheater Het Lommerrijk\, Kerkpad 6\, Luttenberg\, Overijssel\, Nederland
ATTACH;FMTTYPE=image/avif:https://amfitheaterhetlommerrijk.nl/wp-content/uploads/2026/02/17d469be-d6dd-4e94-aa18-0c5ffe0f75de.avif
END:VEVENT
BEGIN:VEVENT
DTSTART;TZID=Europe/Paris:20260605T213000
DTEND;TZID=Europe/Paris:20260605T234000
DTSTAMP:20260420T080258
CREATED:20260205T180538Z
LAST-MODIFIED:20260205T194810Z
UID:3259-1780695000-1780702800@amfitheaterhetlommerrijk.nl
SUMMARY:Film - The North
DESCRIPTION:Op maandag 27 april vieren we Koningsdag in ‘oons’ mooie Lommerrijk. Tijdens deze feestelijke ochtend is er een gezellige kleedjesmarkt waar iedereen zijn spullen kan verkopen. Wil je meedoen? Meld je dan hieronder aan door het formulier in te vullen. Om 09:30 uur starten we officieel met het hijsen van de vlaggen. Dit wordt gedaan door de inwoners die dit jaar een lintje hebben ontvangen. Daarna zorgen Accordeola en De Bergklanken voor feestelijke muziek\, zodat we samen in een gezellige sfeer Koningsdag kunnen vieren. We maken er met elkaar een mooie ochtend van. Het programma duurt tot ongeveer 13:00 uur. 								\n				\n				\n				\n							\n			\n		\n						\n				\n					\n		\n					\n		\n				\n						\n					\n			\n						\n				\n					Aanmelden kleedjesmarkt				\n				\n				\n				\n							\n\n\n\nAanmelden kleedjesmarkt\n\n\n\n\n\n\n\n\n	Naam\n		*\n	\n	\n	\n		Naam	\n\n	\n					\n				\n					Voornaam				\n\n				Voornaam			\n						\n				\n					Achternaam				\n\n				Achternaam			\n				\n\n\n	\n	\n\n\n	E-mail\n		*\n	\n	\n	\n	\n\n\n	\nVerzenden\n\n\n\n\n\n	\n			\n			\n				Indien je een mens bent\, laat dit veld leeg:.			\n			\n		\n		\n\n\n\nΔ
URL:https://amfitheaterhetlommerrijk.nl/evenementen/film-the-north/
LOCATION:Amfitheater Het Lommerrijk\, Kerkpad 6\, Luttenberg\, Overijssel\, Nederland
ATTACH;FMTTYPE=image/jpeg:https://amfitheaterhetlommerrijk.nl/wp-content/uploads/2026/02/the-north.jpeg
END:VEVENT
BEGIN:VEVENT
DTSTART;TZID=Europe/Paris:20260606T200000
DTEND;TZID=Europe/Paris:20260606T200000
DTSTAMP:20260420T080258
CREATED:20260120T154027Z
LAST-MODIFIED:20260123T120004Z
UID:3149-1780776000-1780776000@amfitheaterhetlommerrijk.nl
SUMMARY:Marloes Alferink met HARD tegen HART
DESCRIPTION:Op maandag 27 april vieren we Koningsdag in ‘oons’ mooie Lommerrijk. Tijdens deze feestelijke ochtend is er een gezellige kleedjesmarkt waar iedereen zijn spullen kan verkopen. Wil je meedoen? Meld je dan hieronder aan door het formulier in te vullen. Om 09:30 uur starten we officieel met het hijsen van de vlaggen. Dit wordt gedaan door de inwoners die dit jaar een lintje hebben ontvangen. Daarna zorgen Accordeola en De Bergklanken voor feestelijke muziek\, zodat we samen in een gezellige sfeer Koningsdag kunnen vieren. We maken er met elkaar een mooie ochtend van. Het programma duurt tot ongeveer 13:00 uur. 								\n				\n				\n				\n							\n			\n		\n						\n				\n					\n		\n					\n		\n				\n						\n					\n			\n						\n				\n					Aanmelden kleedjesmarkt				\n				\n				\n				\n							\n\n\n\nAanmelden kleedjesmarkt\n\n\n\n\n\n\n\n\n	Naam\n		*\n	\n	\n	\n		Naam	\n\n	\n					\n				\n					Voornaam				\n\n				Voornaam			\n						\n				\n					Achternaam				\n\n				Achternaam			\n				\n\n\n	\n	\n\n\n	E-mail\n		*\n	\n	\n	\n	\n\n\n	\nVerzenden\n\n\n\n\n\n	\n			\n			\n				Indien je een mens bent\, laat dit veld leeg:.			\n			\n		\n		\n\n\n\nΔ
URL:https://amfitheaterhetlommerrijk.nl/evenementen/marloes-met-hard-tegen-hart/
LOCATION:Amfitheater Het Lommerrijk\, Kerkpad 6\, Luttenberg\, Overijssel\, Nederland
ATTACH;FMTTYPE=image/jpeg:https://amfitheaterhetlommerrijk.nl/wp-content/uploads/2026/01/header-deel-4-scaled.jpg
END:VEVENT
BEGIN:VEVENT
DTSTART;TZID=Europe/Paris:20260717T213000
DTEND;TZID=Europe/Paris:20260717T233000
DTSTAMP:20260420T080258
CREATED:20260205T181605Z
LAST-MODIFIED:20260205T194923Z
UID:3268-1784323800-1784331000@amfitheaterhetlommerrijk.nl
SUMMARY:Film - The Penguin Lessons
DESCRIPTION:Op maandag 27 april vieren we Koningsdag in ‘oons’ mooie Lommerrijk. Tijdens deze feestelijke ochtend is er een gezellige kleedjesmarkt waar iedereen zijn spullen kan verkopen. Wil je meedoen? Meld je dan hieronder aan door het formulier in te vullen. Om 09:30 uur starten we officieel met het hijsen van de vlaggen. Dit wordt gedaan door de inwoners die dit jaar een lintje hebben ontvangen. Daarna zorgen Accordeola en De Bergklanken voor feestelijke muziek\, zodat we samen in een gezellige sfeer Koningsdag kunnen vieren. We maken er met elkaar een mooie ochtend van. Het programma duurt tot ongeveer 13:00 uur. 								\n				\n				\n				\n							\n			\n		\n						\n				\n					\n		\n					\n		\n				\n						\n					\n			\n						\n				\n					Aanmelden kleedjesmarkt				\n				\n				\n				\n							\n\n\n\nAanmelden kleedjesmarkt\n\n\n\n\n\n\n\n\n	Naam\n		*\n	\n	\n	\n		Naam	\n\n	\n					\n				\n					Voornaam				\n\n				Voornaam			\n						\n				\n					Achternaam				\n\n				Achternaam			\n				\n\n\n	\n	\n\n\n	E-mail\n		*\n	\n	\n	\n	\n\n\n	\nVerzenden\n\n\n\n\n\n	\n			\n			\n				Indien je een mens bent\, laat dit veld leeg:.			\n			\n		\n		\n\n\n\nΔ
URL:https://amfitheaterhetlommerrijk.nl/evenementen/film-the-penguin-lessons/
LOCATION:Amfitheater Het Lommerrijk\, Kerkpad 6\, Luttenberg\, Overijssel\, Nederland
ATTACH;FMTTYPE=image/jpeg:https://amfitheaterhetlommerrijk.nl/wp-content/uploads/2026/02/The-Penguin-Lessons-quad.jpg
END:VEVENT
BEGIN:VEVENT
DTSTART;TZID=Europe/Paris:20260904T210000
DTEND;TZID=Europe/Paris:20260904T230000
DTSTAMP:20260420T080258
CREATED:20260205T182525Z
LAST-MODIFIED:20260205T195028Z
UID:3277-1788555600-1788562800@amfitheaterhetlommerrijk.nl
SUMMARY:Film - The Banshees of Inisherin
DESCRIPTION:Op maandag 27 april vieren we Koningsdag in ‘oons’ mooie Lommerrijk. Tijdens deze feestelijke ochtend is er een gezellige kleedjesmarkt waar iedereen zijn spullen kan verkopen. Wil je meedoen? Meld je dan hieronder aan door het formulier in te vullen. Om 09:30 uur starten we officieel met het hijsen van de vlaggen. Dit wordt gedaan door de inwoners die dit jaar een lintje hebben ontvangen. Daarna zorgen Accordeola en De Bergklanken voor feestelijke muziek\, zodat we samen in een gezellige sfeer Koningsdag kunnen vieren. We maken er met elkaar een mooie ochtend van. Het programma duurt tot ongeveer 13:00 uur. 								\n				\n				\n				\n							\n			\n		\n						\n				\n					\n		\n					\n		\n				\n						\n					\n			\n						\n				\n					Aanmelden kleedjesmarkt				\n				\n				\n				\n							\n\n\n\nAanmelden kleedjesmarkt\n\n\n\n\n\n\n\n\n	Naam\n		*\n	\n	\n	\n		Naam	\n\n	\n					\n				\n					Voornaam				\n\n				Voornaam			\n						\n				\n					Achternaam				\n\n				Achternaam			\n				\n\n\n	\n	\n\n\n	E-mail\n		*\n	\n	\n	\n	\n\n\n	\nVerzenden\n\n\n\n\n\n	\n			\n			\n				Indien je een mens bent\, laat dit veld leeg:.			\n			\n		\n		\n\n\n\nΔ
URL:https://amfitheaterhetlommerrijk.nl/evenementen/film-the-banshees-of-inisherin/
LOCATION:Amfitheater Het Lommerrijk\, Kerkpad 6\, Luttenberg\, Overijssel\, Nederland
ATTACH;FMTTYPE=image/jpeg:https://amfitheaterhetlommerrijk.nl/wp-content/uploads/2026/02/banshees.jpg
END:VEVENT
END:VCALENDAR