BEGIN:VCALENDAR
VERSION:2.0
PRODID:-//Amfitheater het Lommerrijk - ECPv6.15.20//NONSGML v1.0//EN
CALSCALE:GREGORIAN
METHOD:PUBLISH
X-WR-CALNAME:Amfitheater het Lommerrijk
X-ORIGINAL-URL:https://amfitheaterhetlommerrijk.nl
X-WR-CALDESC:Evenementen voor Amfitheater het Lommerrijk
REFRESH-INTERVAL;VALUE=DURATION:PT1H
X-Robots-Tag:noindex
X-PUBLISHED-TTL:PT1H
BEGIN:VTIMEZONE
TZID:Europe/Paris
BEGIN:DAYLIGHT
TZOFFSETFROM:+0100
TZOFFSETTO:+0200
TZNAME:CEST
DTSTART:20230326T010000
END:DAYLIGHT
BEGIN:STANDARD
TZOFFSETFROM:+0200
TZOFFSETTO:+0100
TZNAME:CET
DTSTART:20231029T010000
END:STANDARD
BEGIN:DAYLIGHT
TZOFFSETFROM:+0100
TZOFFSETTO:+0200
TZNAME:CEST
DTSTART:20240331T010000
END:DAYLIGHT
BEGIN:STANDARD
TZOFFSETFROM:+0200
TZOFFSETTO:+0100
TZNAME:CET
DTSTART:20241027T010000
END:STANDARD
BEGIN:DAYLIGHT
TZOFFSETFROM:+0100
TZOFFSETTO:+0200
TZNAME:CEST
DTSTART:20250330T010000
END:DAYLIGHT
BEGIN:STANDARD
TZOFFSETFROM:+0200
TZOFFSETTO:+0100
TZNAME:CET
DTSTART:20251026T010000
END:STANDARD
END:VTIMEZONE
BEGIN:VTIMEZONE
TZID:UTC
BEGIN:STANDARD
TZOFFSETFROM:+0000
TZOFFSETTO:+0000
TZNAME:UTC
DTSTART:20230101T000000
END:STANDARD
END:VTIMEZONE
BEGIN:VEVENT
DTSTART;TZID=Europe/Paris:20240726T213000
DTEND;TZID=Europe/Paris:20240726T213000
DTSTAMP:20260423T002038
CREATED:20240323T213709Z
LAST-MODIFIED:20240722T091549Z
UID:739-1722029400-1722029400@amfitheaterhetlommerrijk.nl
SUMMARY:Film: Looking for Eric
DESCRIPTION:Zaterdag 14 juni 202520:15 uurAmfitheater Het Lommerrijk\, Luttenberg€20\,- (incl. 1 consumptie) * Voor kaarten aan de kassa rekenen we een meerprijs van €3\,-  								\n				\n					\n		\n				\n			\n						\n				\n					Tickets				\n				\n				\n				\n									Oosterlingen worden gezien als een nuchter volkje. Doe maar normaal dan doe je al gek genoeg. Cabaretier Thijs Kemperink is maar wat trots op zijn afkomst en steekt dit niet onder stoelen of banken. In ‘Oaverdrieven ku’j het beste met nen boot’ gaat Thijs op zoek naar de identiteit van de streek. Vroeger was alles beter\, toch ziet Thijs dit anders. Het aantal illegale etherpiraten is het grootst in jaren. De keten zitten vol met jeugd waar geen woord Nederlands gesproken wordt. Roddelen gebeurt nog volop\, maar een Tukker weet ook heel goed wanneer hij zijn mond moet houden. Thijs vertelt ons over een waargebeurd verhaal met een vraagstuk\, waarop het antwoord tot op de dag van vandaag niet bekend is. Tot Thijs tijdens zijn dagelijkse wandeling aan het kanaal Gerrit ontmoet. Gerrit weet meer van dit verhaal\, maar heeft zoals zovelen besloten te zwijgen tot het graf. Of? Thijs neemt je mee in een verhaal waarin duidelijk wordt hoe normen en waarden vroeger in een dorp werden nageleefd. En hoe zit dat nu? Zijn we als streek nog steeds zo of veranderden we echt? Thijs zoekt het uit en brengt hiermee tegelijkertijd een ode aan de regio. Thijs: ‘Komen jullie allemaal gezellig op visite\, proosten we daarna op het leven!’ Rondom deze voorstelling verschijnt de documentaire ‘Overijsselse Streken’ bij RTV Oost\, waarbij Thijs de streek intrekt op zoek naar de normen\, waarden en tradities. Thijs speelt op zaterdag 14 juni 2025 zijn show ‘Oaverdrieven ku’j het beste met nen boot’ in Luttenberg!
URL:https://amfitheaterhetlommerrijk.nl/evenementen/film-looking-for-eric/
LOCATION:Amfitheater Het Lommerrijk\, Kerkpad 6\, Luttenberg\, Overijssel\, Nederland
END:VEVENT
BEGIN:VEVENT
DTSTART;TZID=Europe/Paris:20240717T183000
DTEND;TZID=Europe/Paris:20240717T190000
DTSTAMP:20260423T002038
CREATED:20240617T190303Z
LAST-MODIFIED:20240623T124904Z
UID:983-1721241000-1721242800@amfitheaterhetlommerrijk.nl
SUMMARY:Boek in het Bos: 'Allemaal kaal\, uit het boek Floddertje' - Voorgelezen door: 'juf' Ellen Rippe
DESCRIPTION:Zaterdag 14 juni 202520:15 uurAmfitheater Het Lommerrijk\, Luttenberg€20\,- (incl. 1 consumptie) * Voor kaarten aan de kassa rekenen we een meerprijs van €3\,-  								\n				\n					\n		\n				\n			\n						\n				\n					Tickets				\n				\n				\n				\n									Oosterlingen worden gezien als een nuchter volkje. Doe maar normaal dan doe je al gek genoeg. Cabaretier Thijs Kemperink is maar wat trots op zijn afkomst en steekt dit niet onder stoelen of banken. In ‘Oaverdrieven ku’j het beste met nen boot’ gaat Thijs op zoek naar de identiteit van de streek. Vroeger was alles beter\, toch ziet Thijs dit anders. Het aantal illegale etherpiraten is het grootst in jaren. De keten zitten vol met jeugd waar geen woord Nederlands gesproken wordt. Roddelen gebeurt nog volop\, maar een Tukker weet ook heel goed wanneer hij zijn mond moet houden. Thijs vertelt ons over een waargebeurd verhaal met een vraagstuk\, waarop het antwoord tot op de dag van vandaag niet bekend is. Tot Thijs tijdens zijn dagelijkse wandeling aan het kanaal Gerrit ontmoet. Gerrit weet meer van dit verhaal\, maar heeft zoals zovelen besloten te zwijgen tot het graf. Of? Thijs neemt je mee in een verhaal waarin duidelijk wordt hoe normen en waarden vroeger in een dorp werden nageleefd. En hoe zit dat nu? Zijn we als streek nog steeds zo of veranderden we echt? Thijs zoekt het uit en brengt hiermee tegelijkertijd een ode aan de regio. Thijs: ‘Komen jullie allemaal gezellig op visite\, proosten we daarna op het leven!’ Rondom deze voorstelling verschijnt de documentaire ‘Overijsselse Streken’ bij RTV Oost\, waarbij Thijs de streek intrekt op zoek naar de normen\, waarden en tradities. Thijs speelt op zaterdag 14 juni 2025 zijn show ‘Oaverdrieven ku’j het beste met nen boot’ in Luttenberg!
URL:https://amfitheaterhetlommerrijk.nl/evenementen/boek-in-het-bos-allemaal-kaal-uit-het-boek-floddertje-voorgelezen-door-juf-ellen-rippe/
LOCATION:Amfitheater Het Lommerrijk\, Kerkpad 6\, Luttenberg\, Overijssel\, Nederland
ATTACH;FMTTYPE=image/jpeg:https://amfitheaterhetlommerrijk.nl/wp-content/uploads/2024/06/allemaal-kaal.jpeg
END:VEVENT
BEGIN:VEVENT
DTSTART;TZID=Europe/Paris:20240714T143000
DTEND;TZID=Europe/Paris:20240714T143000
DTSTAMP:20260423T002038
CREATED:20240317T210648Z
LAST-MODIFIED:20240623T143936Z
UID:547-1720967400-1720967400@amfitheaterhetlommerrijk.nl
SUMMARY:Deventer Jazz Orkest - Let's face the music (and dance)
DESCRIPTION:Zaterdag 14 juni 202520:15 uurAmfitheater Het Lommerrijk\, Luttenberg€20\,- (incl. 1 consumptie) * Voor kaarten aan de kassa rekenen we een meerprijs van €3\,-  								\n				\n					\n		\n				\n			\n						\n				\n					Tickets				\n				\n				\n				\n									Oosterlingen worden gezien als een nuchter volkje. Doe maar normaal dan doe je al gek genoeg. Cabaretier Thijs Kemperink is maar wat trots op zijn afkomst en steekt dit niet onder stoelen of banken. In ‘Oaverdrieven ku’j het beste met nen boot’ gaat Thijs op zoek naar de identiteit van de streek. Vroeger was alles beter\, toch ziet Thijs dit anders. Het aantal illegale etherpiraten is het grootst in jaren. De keten zitten vol met jeugd waar geen woord Nederlands gesproken wordt. Roddelen gebeurt nog volop\, maar een Tukker weet ook heel goed wanneer hij zijn mond moet houden. Thijs vertelt ons over een waargebeurd verhaal met een vraagstuk\, waarop het antwoord tot op de dag van vandaag niet bekend is. Tot Thijs tijdens zijn dagelijkse wandeling aan het kanaal Gerrit ontmoet. Gerrit weet meer van dit verhaal\, maar heeft zoals zovelen besloten te zwijgen tot het graf. Of? Thijs neemt je mee in een verhaal waarin duidelijk wordt hoe normen en waarden vroeger in een dorp werden nageleefd. En hoe zit dat nu? Zijn we als streek nog steeds zo of veranderden we echt? Thijs zoekt het uit en brengt hiermee tegelijkertijd een ode aan de regio. Thijs: ‘Komen jullie allemaal gezellig op visite\, proosten we daarna op het leven!’ Rondom deze voorstelling verschijnt de documentaire ‘Overijsselse Streken’ bij RTV Oost\, waarbij Thijs de streek intrekt op zoek naar de normen\, waarden en tradities. Thijs speelt op zaterdag 14 juni 2025 zijn show ‘Oaverdrieven ku’j het beste met nen boot’ in Luttenberg!
URL:https://amfitheaterhetlommerrijk.nl/evenementen/deventer-jazz-orkest/
LOCATION:Amfitheater Het Lommerrijk\, Kerkpad 6\, Luttenberg\, Overijssel\, Nederland
END:VEVENT
BEGIN:VEVENT
DTSTART;TZID=Europe/Paris:20240710T183000
DTEND;TZID=Europe/Paris:20240710T190000
DTSTAMP:20260423T002038
CREATED:20240617T185633Z
LAST-MODIFIED:20240617T190108Z
UID:978-1720636200-1720638000@amfitheaterhetlommerrijk.nl
SUMMARY:Boek in het Bos: 'Over een kleine mol die wil weten wie er op zijn kop gepoept heeft' - Voorgelezen door: Renate Mol
DESCRIPTION:Zaterdag 14 juni 202520:15 uurAmfitheater Het Lommerrijk\, Luttenberg€20\,- (incl. 1 consumptie) * Voor kaarten aan de kassa rekenen we een meerprijs van €3\,-  								\n				\n					\n		\n				\n			\n						\n				\n					Tickets				\n				\n				\n				\n									Oosterlingen worden gezien als een nuchter volkje. Doe maar normaal dan doe je al gek genoeg. Cabaretier Thijs Kemperink is maar wat trots op zijn afkomst en steekt dit niet onder stoelen of banken. In ‘Oaverdrieven ku’j het beste met nen boot’ gaat Thijs op zoek naar de identiteit van de streek. Vroeger was alles beter\, toch ziet Thijs dit anders. Het aantal illegale etherpiraten is het grootst in jaren. De keten zitten vol met jeugd waar geen woord Nederlands gesproken wordt. Roddelen gebeurt nog volop\, maar een Tukker weet ook heel goed wanneer hij zijn mond moet houden. Thijs vertelt ons over een waargebeurd verhaal met een vraagstuk\, waarop het antwoord tot op de dag van vandaag niet bekend is. Tot Thijs tijdens zijn dagelijkse wandeling aan het kanaal Gerrit ontmoet. Gerrit weet meer van dit verhaal\, maar heeft zoals zovelen besloten te zwijgen tot het graf. Of? Thijs neemt je mee in een verhaal waarin duidelijk wordt hoe normen en waarden vroeger in een dorp werden nageleefd. En hoe zit dat nu? Zijn we als streek nog steeds zo of veranderden we echt? Thijs zoekt het uit en brengt hiermee tegelijkertijd een ode aan de regio. Thijs: ‘Komen jullie allemaal gezellig op visite\, proosten we daarna op het leven!’ Rondom deze voorstelling verschijnt de documentaire ‘Overijsselse Streken’ bij RTV Oost\, waarbij Thijs de streek intrekt op zoek naar de normen\, waarden en tradities. Thijs speelt op zaterdag 14 juni 2025 zijn show ‘Oaverdrieven ku’j het beste met nen boot’ in Luttenberg!
URL:https://amfitheaterhetlommerrijk.nl/evenementen/boek-in-het-bos-over-een-kleine-mol-die-wil-weten-wie-er-op-zijn-kop-gepoept-heeft-voorgelezen-door-renate-mol/
LOCATION:Amfitheater Het Lommerrijk\, Kerkpad 6\, Luttenberg\, Overijssel\, Nederland
ATTACH;FMTTYPE=image/jpeg:https://amfitheaterhetlommerrijk.nl/wp-content/uploads/2024/06/mol-gepoept.jpeg
END:VEVENT
BEGIN:VEVENT
DTSTART;TZID=Europe/Paris:20240707T143000
DTEND;TZID=Europe/Paris:20240707T143000
DTSTAMP:20260423T002038
CREATED:20240317T205637Z
LAST-MODIFIED:20240617T145833Z
UID:539-1720362600-1720362600@amfitheaterhetlommerrijk.nl
SUMMARY:Meisjes met de Wijsjes & Ivy
DESCRIPTION:Zaterdag 14 juni 202520:15 uurAmfitheater Het Lommerrijk\, Luttenberg€20\,- (incl. 1 consumptie) * Voor kaarten aan de kassa rekenen we een meerprijs van €3\,-  								\n				\n					\n		\n				\n			\n						\n				\n					Tickets				\n				\n				\n				\n									Oosterlingen worden gezien als een nuchter volkje. Doe maar normaal dan doe je al gek genoeg. Cabaretier Thijs Kemperink is maar wat trots op zijn afkomst en steekt dit niet onder stoelen of banken. In ‘Oaverdrieven ku’j het beste met nen boot’ gaat Thijs op zoek naar de identiteit van de streek. Vroeger was alles beter\, toch ziet Thijs dit anders. Het aantal illegale etherpiraten is het grootst in jaren. De keten zitten vol met jeugd waar geen woord Nederlands gesproken wordt. Roddelen gebeurt nog volop\, maar een Tukker weet ook heel goed wanneer hij zijn mond moet houden. Thijs vertelt ons over een waargebeurd verhaal met een vraagstuk\, waarop het antwoord tot op de dag van vandaag niet bekend is. Tot Thijs tijdens zijn dagelijkse wandeling aan het kanaal Gerrit ontmoet. Gerrit weet meer van dit verhaal\, maar heeft zoals zovelen besloten te zwijgen tot het graf. Of? Thijs neemt je mee in een verhaal waarin duidelijk wordt hoe normen en waarden vroeger in een dorp werden nageleefd. En hoe zit dat nu? Zijn we als streek nog steeds zo of veranderden we echt? Thijs zoekt het uit en brengt hiermee tegelijkertijd een ode aan de regio. Thijs: ‘Komen jullie allemaal gezellig op visite\, proosten we daarna op het leven!’ Rondom deze voorstelling verschijnt de documentaire ‘Overijsselse Streken’ bij RTV Oost\, waarbij Thijs de streek intrekt op zoek naar de normen\, waarden en tradities. Thijs speelt op zaterdag 14 juni 2025 zijn show ‘Oaverdrieven ku’j het beste met nen boot’ in Luttenberg!
URL:https://amfitheaterhetlommerrijk.nl/evenementen/meisjes-met-de-wijsjes/
LOCATION:Amfitheater Het Lommerrijk\, Kerkpad 6\, Luttenberg\, Overijssel\, Nederland
END:VEVENT
BEGIN:VEVENT
DTSTART;TZID=Europe/Paris:20240703T183000
DTEND;TZID=Europe/Paris:20240703T190000
DTSTAMP:20260423T002038
CREATED:20240617T184624Z
LAST-MODIFIED:20240617T192656Z
UID:970-1720031400-1720033200@amfitheaterhetlommerrijk.nl
SUMMARY:Boek in het Bos: 'Een goochelvoorstelling en een knorrige tuinman' - Voorgelezen door: Erik Veldkamp
DESCRIPTION:Zaterdag 14 juni 202520:15 uurAmfitheater Het Lommerrijk\, Luttenberg€20\,- (incl. 1 consumptie) * Voor kaarten aan de kassa rekenen we een meerprijs van €3\,-  								\n				\n					\n		\n				\n			\n						\n				\n					Tickets				\n				\n				\n				\n									Oosterlingen worden gezien als een nuchter volkje. Doe maar normaal dan doe je al gek genoeg. Cabaretier Thijs Kemperink is maar wat trots op zijn afkomst en steekt dit niet onder stoelen of banken. In ‘Oaverdrieven ku’j het beste met nen boot’ gaat Thijs op zoek naar de identiteit van de streek. Vroeger was alles beter\, toch ziet Thijs dit anders. Het aantal illegale etherpiraten is het grootst in jaren. De keten zitten vol met jeugd waar geen woord Nederlands gesproken wordt. Roddelen gebeurt nog volop\, maar een Tukker weet ook heel goed wanneer hij zijn mond moet houden. Thijs vertelt ons over een waargebeurd verhaal met een vraagstuk\, waarop het antwoord tot op de dag van vandaag niet bekend is. Tot Thijs tijdens zijn dagelijkse wandeling aan het kanaal Gerrit ontmoet. Gerrit weet meer van dit verhaal\, maar heeft zoals zovelen besloten te zwijgen tot het graf. Of? Thijs neemt je mee in een verhaal waarin duidelijk wordt hoe normen en waarden vroeger in een dorp werden nageleefd. En hoe zit dat nu? Zijn we als streek nog steeds zo of veranderden we echt? Thijs zoekt het uit en brengt hiermee tegelijkertijd een ode aan de regio. Thijs: ‘Komen jullie allemaal gezellig op visite\, proosten we daarna op het leven!’ Rondom deze voorstelling verschijnt de documentaire ‘Overijsselse Streken’ bij RTV Oost\, waarbij Thijs de streek intrekt op zoek naar de normen\, waarden en tradities. Thijs speelt op zaterdag 14 juni 2025 zijn show ‘Oaverdrieven ku’j het beste met nen boot’ in Luttenberg!
URL:https://amfitheaterhetlommerrijk.nl/evenementen/een-goochelvoorstelling-en-een-knorrige-tuinman-voorgelezen-door-erik-veldkamp/
LOCATION:Amfitheater Het Lommerrijk\, Kerkpad 6\, Luttenberg\, Overijssel\, Nederland
ATTACH;FMTTYPE=image/png:https://amfitheaterhetlommerrijk.nl/wp-content/uploads/2024/06/koning-bobbel.png
END:VEVENT
BEGIN:VEVENT
DTSTART;TZID=Europe/Paris:20240607T220000
DTEND;TZID=Europe/Paris:20240607T220000
DTSTAMP:20260423T002038
CREATED:20240323T212614Z
LAST-MODIFIED:20240402T104411Z
UID:728-1717797600-1717797600@amfitheaterhetlommerrijk.nl
SUMMARY:Film: Riders of Justice
DESCRIPTION:Zaterdag 14 juni 202520:15 uurAmfitheater Het Lommerrijk\, Luttenberg€20\,- (incl. 1 consumptie) * Voor kaarten aan de kassa rekenen we een meerprijs van €3\,-  								\n				\n					\n		\n				\n			\n						\n				\n					Tickets				\n				\n				\n				\n									Oosterlingen worden gezien als een nuchter volkje. Doe maar normaal dan doe je al gek genoeg. Cabaretier Thijs Kemperink is maar wat trots op zijn afkomst en steekt dit niet onder stoelen of banken. In ‘Oaverdrieven ku’j het beste met nen boot’ gaat Thijs op zoek naar de identiteit van de streek. Vroeger was alles beter\, toch ziet Thijs dit anders. Het aantal illegale etherpiraten is het grootst in jaren. De keten zitten vol met jeugd waar geen woord Nederlands gesproken wordt. Roddelen gebeurt nog volop\, maar een Tukker weet ook heel goed wanneer hij zijn mond moet houden. Thijs vertelt ons over een waargebeurd verhaal met een vraagstuk\, waarop het antwoord tot op de dag van vandaag niet bekend is. Tot Thijs tijdens zijn dagelijkse wandeling aan het kanaal Gerrit ontmoet. Gerrit weet meer van dit verhaal\, maar heeft zoals zovelen besloten te zwijgen tot het graf. Of? Thijs neemt je mee in een verhaal waarin duidelijk wordt hoe normen en waarden vroeger in een dorp werden nageleefd. En hoe zit dat nu? Zijn we als streek nog steeds zo of veranderden we echt? Thijs zoekt het uit en brengt hiermee tegelijkertijd een ode aan de regio. Thijs: ‘Komen jullie allemaal gezellig op visite\, proosten we daarna op het leven!’ Rondom deze voorstelling verschijnt de documentaire ‘Overijsselse Streken’ bij RTV Oost\, waarbij Thijs de streek intrekt op zoek naar de normen\, waarden en tradities. Thijs speelt op zaterdag 14 juni 2025 zijn show ‘Oaverdrieven ku’j het beste met nen boot’ in Luttenberg!
URL:https://amfitheaterhetlommerrijk.nl/evenementen/film-riders-of-justice/
LOCATION:Amfitheater Het Lommerrijk\, Kerkpad 6\, Luttenberg\, Overijssel\, Nederland
END:VEVENT
BEGIN:VEVENT
DTSTART;TZID=Europe/Paris:20240504T210000
DTEND;TZID=Europe/Paris:20240504T210000
DTSTAMP:20260423T002038
CREATED:20240323T211150Z
LAST-MODIFIED:20240413T095453Z
UID:716-1714856400-1714856400@amfitheaterhetlommerrijk.nl
SUMMARY:Film: The Boy in the Striped Pyjamas
DESCRIPTION:Zaterdag 14 juni 202520:15 uurAmfitheater Het Lommerrijk\, Luttenberg€20\,- (incl. 1 consumptie) * Voor kaarten aan de kassa rekenen we een meerprijs van €3\,-  								\n				\n					\n		\n				\n			\n						\n				\n					Tickets				\n				\n				\n				\n									Oosterlingen worden gezien als een nuchter volkje. Doe maar normaal dan doe je al gek genoeg. Cabaretier Thijs Kemperink is maar wat trots op zijn afkomst en steekt dit niet onder stoelen of banken. In ‘Oaverdrieven ku’j het beste met nen boot’ gaat Thijs op zoek naar de identiteit van de streek. Vroeger was alles beter\, toch ziet Thijs dit anders. Het aantal illegale etherpiraten is het grootst in jaren. De keten zitten vol met jeugd waar geen woord Nederlands gesproken wordt. Roddelen gebeurt nog volop\, maar een Tukker weet ook heel goed wanneer hij zijn mond moet houden. Thijs vertelt ons over een waargebeurd verhaal met een vraagstuk\, waarop het antwoord tot op de dag van vandaag niet bekend is. Tot Thijs tijdens zijn dagelijkse wandeling aan het kanaal Gerrit ontmoet. Gerrit weet meer van dit verhaal\, maar heeft zoals zovelen besloten te zwijgen tot het graf. Of? Thijs neemt je mee in een verhaal waarin duidelijk wordt hoe normen en waarden vroeger in een dorp werden nageleefd. En hoe zit dat nu? Zijn we als streek nog steeds zo of veranderden we echt? Thijs zoekt het uit en brengt hiermee tegelijkertijd een ode aan de regio. Thijs: ‘Komen jullie allemaal gezellig op visite\, proosten we daarna op het leven!’ Rondom deze voorstelling verschijnt de documentaire ‘Overijsselse Streken’ bij RTV Oost\, waarbij Thijs de streek intrekt op zoek naar de normen\, waarden en tradities. Thijs speelt op zaterdag 14 juni 2025 zijn show ‘Oaverdrieven ku’j het beste met nen boot’ in Luttenberg!
URL:https://amfitheaterhetlommerrijk.nl/evenementen/film-the-boy-in-the-striped-pyjamas/
LOCATION:Amfitheater Het Lommerrijk\, Kerkpad 6\, Luttenberg\, Overijssel\, Nederland
END:VEVENT
BEGIN:VEVENT
DTSTART;TZID=Europe/Paris:20240413T201500
DTEND;TZID=Europe/Paris:20240413T201500
DTSTAMP:20260423T002038
CREATED:20240220T172934Z
LAST-MODIFIED:20240317T141916Z
UID:174-1713039300-1713039300@amfitheaterhetlommerrijk.nl
SUMMARY:Anneke van Giersbergen - Solo
DESCRIPTION:Zaterdag 14 juni 202520:15 uurAmfitheater Het Lommerrijk\, Luttenberg€20\,- (incl. 1 consumptie) * Voor kaarten aan de kassa rekenen we een meerprijs van €3\,-  								\n				\n					\n		\n				\n			\n						\n				\n					Tickets				\n				\n				\n				\n									Oosterlingen worden gezien als een nuchter volkje. Doe maar normaal dan doe je al gek genoeg. Cabaretier Thijs Kemperink is maar wat trots op zijn afkomst en steekt dit niet onder stoelen of banken. In ‘Oaverdrieven ku’j het beste met nen boot’ gaat Thijs op zoek naar de identiteit van de streek. Vroeger was alles beter\, toch ziet Thijs dit anders. Het aantal illegale etherpiraten is het grootst in jaren. De keten zitten vol met jeugd waar geen woord Nederlands gesproken wordt. Roddelen gebeurt nog volop\, maar een Tukker weet ook heel goed wanneer hij zijn mond moet houden. Thijs vertelt ons over een waargebeurd verhaal met een vraagstuk\, waarop het antwoord tot op de dag van vandaag niet bekend is. Tot Thijs tijdens zijn dagelijkse wandeling aan het kanaal Gerrit ontmoet. Gerrit weet meer van dit verhaal\, maar heeft zoals zovelen besloten te zwijgen tot het graf. Of? Thijs neemt je mee in een verhaal waarin duidelijk wordt hoe normen en waarden vroeger in een dorp werden nageleefd. En hoe zit dat nu? Zijn we als streek nog steeds zo of veranderden we echt? Thijs zoekt het uit en brengt hiermee tegelijkertijd een ode aan de regio. Thijs: ‘Komen jullie allemaal gezellig op visite\, proosten we daarna op het leven!’ Rondom deze voorstelling verschijnt de documentaire ‘Overijsselse Streken’ bij RTV Oost\, waarbij Thijs de streek intrekt op zoek naar de normen\, waarden en tradities. Thijs speelt op zaterdag 14 juni 2025 zijn show ‘Oaverdrieven ku’j het beste met nen boot’ in Luttenberg!
URL:https://amfitheaterhetlommerrijk.nl/evenementen/anneke-van-giersbergen-solo/
LOCATION:Amfitheater Het Lommerrijk\, Kerkpad 6\, Luttenberg\, Overijssel\, Nederland
ATTACH;FMTTYPE=image/jpeg:https://amfitheaterhetlommerrijk.nl/wp-content/uploads/2024/02/4_AnnekeVanGiersbergen_hoge_kwaliteit_roze_jasje_Mark_Uyl.jpg
END:VEVENT
BEGIN:VEVENT
DTSTART;TZID=UTC:20240225T143000
DTEND;TZID=UTC:20240225T143000
DTSTAMP:20260423T002038
CREATED:20240214T161417Z
LAST-MODIFIED:20240214T163900Z
UID:130-1708871400-1708871400@amfitheaterhetlommerrijk.nl
SUMMARY:Hanneke Rouw speelt Bach\, Suite III & IV
DESCRIPTION:Zaterdag 14 juni 202520:15 uurAmfitheater Het Lommerrijk\, Luttenberg€20\,- (incl. 1 consumptie) * Voor kaarten aan de kassa rekenen we een meerprijs van €3\,-  								\n				\n					\n		\n				\n			\n						\n				\n					Tickets				\n				\n				\n				\n									Oosterlingen worden gezien als een nuchter volkje. Doe maar normaal dan doe je al gek genoeg. Cabaretier Thijs Kemperink is maar wat trots op zijn afkomst en steekt dit niet onder stoelen of banken. In ‘Oaverdrieven ku’j het beste met nen boot’ gaat Thijs op zoek naar de identiteit van de streek. Vroeger was alles beter\, toch ziet Thijs dit anders. Het aantal illegale etherpiraten is het grootst in jaren. De keten zitten vol met jeugd waar geen woord Nederlands gesproken wordt. Roddelen gebeurt nog volop\, maar een Tukker weet ook heel goed wanneer hij zijn mond moet houden. Thijs vertelt ons over een waargebeurd verhaal met een vraagstuk\, waarop het antwoord tot op de dag van vandaag niet bekend is. Tot Thijs tijdens zijn dagelijkse wandeling aan het kanaal Gerrit ontmoet. Gerrit weet meer van dit verhaal\, maar heeft zoals zovelen besloten te zwijgen tot het graf. Of? Thijs neemt je mee in een verhaal waarin duidelijk wordt hoe normen en waarden vroeger in een dorp werden nageleefd. En hoe zit dat nu? Zijn we als streek nog steeds zo of veranderden we echt? Thijs zoekt het uit en brengt hiermee tegelijkertijd een ode aan de regio. Thijs: ‘Komen jullie allemaal gezellig op visite\, proosten we daarna op het leven!’ Rondom deze voorstelling verschijnt de documentaire ‘Overijsselse Streken’ bij RTV Oost\, waarbij Thijs de streek intrekt op zoek naar de normen\, waarden en tradities. Thijs speelt op zaterdag 14 juni 2025 zijn show ‘Oaverdrieven ku’j het beste met nen boot’ in Luttenberg!
URL:https://amfitheaterhetlommerrijk.nl/evenementen/hanneke-rouw-speelt-bach-suite-iii-iv/
LOCATION:Amfitheater Het Lommerrijk\, Kerkpad 6\, Luttenberg\, Overijssel\, Nederland
END:VEVENT
END:VCALENDAR