BEGIN:VCALENDAR
VERSION:2.0
PRODID:-//Amfitheater het Lommerrijk - ECPv6.15.20//NONSGML v1.0//EN
CALSCALE:GREGORIAN
METHOD:PUBLISH
X-WR-CALNAME:Amfitheater het Lommerrijk
X-ORIGINAL-URL:https://amfitheaterhetlommerrijk.nl
X-WR-CALDESC:Evenementen voor Amfitheater het Lommerrijk
REFRESH-INTERVAL;VALUE=DURATION:PT1H
X-Robots-Tag:noindex
X-PUBLISHED-TTL:PT1H
BEGIN:VTIMEZONE
TZID:Europe/Paris
BEGIN:DAYLIGHT
TZOFFSETFROM:+0100
TZOFFSETTO:+0200
TZNAME:CEST
DTSTART:20250330T010000
END:DAYLIGHT
BEGIN:STANDARD
TZOFFSETFROM:+0200
TZOFFSETTO:+0100
TZNAME:CET
DTSTART:20251026T010000
END:STANDARD
BEGIN:DAYLIGHT
TZOFFSETFROM:+0100
TZOFFSETTO:+0200
TZNAME:CEST
DTSTART:20260329T010000
END:DAYLIGHT
BEGIN:STANDARD
TZOFFSETFROM:+0200
TZOFFSETTO:+0100
TZNAME:CET
DTSTART:20261025T010000
END:STANDARD
BEGIN:DAYLIGHT
TZOFFSETFROM:+0100
TZOFFSETTO:+0200
TZNAME:CEST
DTSTART:20270328T010000
END:DAYLIGHT
BEGIN:STANDARD
TZOFFSETFROM:+0200
TZOFFSETTO:+0100
TZNAME:CET
DTSTART:20271031T010000
END:STANDARD
END:VTIMEZONE
BEGIN:VEVENT
DTSTART;TZID=Europe/Paris:20260301T143000
DTEND;TZID=Europe/Paris:20260301T143000
DTSTAMP:20260417T185707
CREATED:20260122T180506Z
LAST-MODIFIED:20260122T192606Z
UID:3184-1772375400-1772375400@amfitheaterhetlommerrijk.nl
SUMMARY:Kobari Trio met Zielsgetijden
DESCRIPTION:Op maandag 27 april vieren we Koningsdag in ‘oons’ mooie Lommerrijk. Tijdens deze feestelijke ochtend is er een gezellige kleedjesmarkt waar iedereen zijn spullen kan verkopen. Wil je meedoen? Meld je dan hieronder aan door het formulier in te vullen. Om 09:30 uur starten we officieel met het hijsen van de vlaggen. Dit wordt gedaan door de inwoners die dit jaar een lintje hebben ontvangen. Daarna zorgen Accordeola en De Bergklanken voor feestelijke muziek\, zodat we samen in een gezellige sfeer Koningsdag kunnen vieren. We maken er met elkaar een mooie ochtend van. Het programma duurt tot ongeveer 13:00 uur. 								\n				\n				\n				\n							\n			\n		\n						\n				\n					\n		\n					\n		\n				\n						\n					\n			\n						\n				\n					Aanmelden kleedjesmarkt				\n				\n				\n				\n							\n\n\n\nAanmelden kleedjesmarkt\n\n\n\n\n\n\n\n\n	Naam\n		*\n	\n	\n	\n		Naam	\n\n	\n					\n				\n					Voornaam				\n\n				Voornaam			\n						\n				\n					Achternaam				\n\n				Achternaam			\n				\n\n\n	\n	\n\n\n	E-mail\n		*\n	\n	\n	\n	\n\n\n	\nVerzenden\n\n\n\n\n\n	\n			\n			\n				Indien je een mens bent\, laat dit veld leeg:.			\n			\n		\n		\n\n\n\nΔ
URL:https://amfitheaterhetlommerrijk.nl/evenementen/kobari-trio-met-zielsgetijden/
LOCATION:Amfitheater Het Lommerrijk\, Kerkpad 6\, Luttenberg\, Overijssel\, Nederland
ATTACH;FMTTYPE=image/jpeg:https://amfitheaterhetlommerrijk.nl/wp-content/uploads/2026/01/koffieconcert-kobari-ensemble-4-jan-1600.jpg
END:VEVENT
BEGIN:VEVENT
DTSTART;TZID=Europe/Paris:20260306T080000
DTEND;TZID=Europe/Paris:20260306T170000
DTSTAMP:20260417T185707
CREATED:20260306T130340Z
LAST-MODIFIED:20260306T132936Z
UID:3388-1772784000-1772816400@amfitheaterhetlommerrijk.nl
SUMMARY:Koningsdag in 'oons' mooie Lommerrijk
DESCRIPTION:Op maandag 27 april vieren we Koningsdag in ‘oons’ mooie Lommerrijk. Tijdens deze feestelijke ochtend is er een gezellige kleedjesmarkt waar iedereen zijn spullen kan verkopen. Wil je meedoen? Meld je dan hieronder aan door het formulier in te vullen. Om 09:30 uur starten we officieel met het hijsen van de vlaggen. Dit wordt gedaan door de inwoners die dit jaar een lintje hebben ontvangen. Daarna zorgen Accordeola en De Bergklanken voor feestelijke muziek\, zodat we samen in een gezellige sfeer Koningsdag kunnen vieren. We maken er met elkaar een mooie ochtend van. Het programma duurt tot ongeveer 13:00 uur. 								\n				\n				\n				\n							\n			\n		\n						\n				\n					\n		\n					\n		\n				\n						\n					\n			\n						\n				\n					Aanmelden kleedjesmarkt				\n				\n				\n				\n							\n\n\n\nAanmelden kleedjesmarkt\n\n\n\n\n\n\n\n\n	Naam\n		*\n	\n	\n	\n		Naam	\n\n	\n					\n				\n					Voornaam				\n\n				Voornaam			\n						\n				\n					Achternaam				\n\n				Achternaam			\n				\n\n\n	\n	\n\n\n	E-mail\n		*\n	\n	\n	\n	\n\n\n	\nVerzenden\n\n\n\n\n\n	\n			\n			\n				Indien je een mens bent\, laat dit veld leeg:.			\n			\n		\n		\n\n\n\nΔ
URL:https://amfitheaterhetlommerrijk.nl/evenementen/koningsdag-in-oons-mooie-lommerrijk/
ATTACH;FMTTYPE=image/jpeg:https://amfitheaterhetlommerrijk.nl/wp-content/uploads/2025/04/8430194e-4279-41a3-8324-ff3d8bcf3998-e1772802198244.jpg
END:VEVENT
END:VCALENDAR